{"text_format":"1","workbook":"xlsx","n_sheets":2,"sheets":["HESAPLAMA TABLOSU","SONUÇLAR"],"not_rendered":{"charts":0,"images":3,"macros":1,"external_links":0,"defined_names":1,"comments":1,"pivot_tables":0},"unopened":[],"bounds":{"document_bytes":16777216,"sheet_cells":100000,"rows_first":2000,"rows_last":500,"rows_between":2000,"halvings":0,"cell_chars":16384,"cell_head_chars":4096},"cells_cut":0,"cells_raw":0,"read":"whole","date_system":"1900"}

{"sheet":"HESAPLAMA TABLOSU","index":0,"n_rows":31,"n_cols":32,"rows_kept":31,"cut":false,"hidden":false,"merged":[[26,3,26,4],[27,3,27,6],[28,3,28,6],[29,3,29,6],[30,3,30,6],[16,27,16,28],[16,29,16,31],[17,7,17,8],[17,9,17,10],[18,3,18,4],[16,17,16,18],[16,19,16,21],[16,22,16,23],[16,24,16,26],[25,3,25,4],[19,3,19,4],[20,3,20,4],[21,3,21,4],[22,3,22,4],[23,3,23,4],[24,3,24,4],[10,2,10,31],[11,2,11,31],[14,2,30,2],[14,3,14,6],[14,7,14,8],[14,9,14,11],[14,12,14,31],[15,3,17,6],[15,10,15,11],[15,12,15,16],[15,17,15,21],[15,22,15,26],[15,27,15,31],[16,9,16,11],[16,12,16,13],[16,14,16,16],[9,29,9,31],[8,4,8,6],[8,7,8,8],[8,13,8,15],[8,16,8,19],[8,20,8,23],[8,24,8,28],[9,7,9,8],[9,13,9,15],[9,16,9,19],[9,20,9,23],[9,24,9,28],[7,29,7,31],[0,1,30,1],[0,2,0,32],[1,2,1,31],[1,32,30,32],[6,2,6,12],[6,13,6,31],[7,4,7,8],[3,2,5,31],[7,9,7,11],[7,13,7,15],[7,16,7,19],[7,20,7,23],[7,24,7,28],[8,29,8,31],[9,4,9,6]]}
[]
[null,null,"AYDINLATMA YATIRIM ve İŞLETME MALİYET HESAPLAMA TABLOSU *"]
[]
[null,null,"              AYDINLATMA PROJE DEĞİŞKENLERİ"]
[]
[]
[null,null,"ODA BİLGİLERİ",null,null,null,null,null,null,null,null,null,null,"UYGULAMA - İŞLETME BİLGİLERİ"]
[null,null,"ENİ","BOYU","YÜKSEKLİĞİ",null,null,null,null,"YÜZEY YANSITMA ORANLARI",null,null,"İNDEKS","İŞLETME SÜRESİ",null,null,"HEDEF AYDINLIK SEVİYESİ",null,null,null,"YILLIK ÇALIŞMA GÜNÜ",null,null,null,"GÜNLÜK ORTALAMA AYDINLATMA SÜRESİ",null,null,null,null,"ENERJİ BİRİM FİYATI"]
[null,null,"METRE","METRE","ÇALIŞMA     DÜZLEMİ",null,null,"ARMATÜR      YÜKSEKLİĞİ",null,"TAVAN","DUVAR","ZEMİN","RI - K  ","YIL",null,null,"LUX   ( çalışma düzleminde ortalama )",null,null,null,"GÜN",null,null,null,"SAAT",null,null,null,null,"EURO / kWs"]
[null,null,9,16,0.8,null,null,2.75,null,70,50,20,{"$f":"(C10*D10)/((H10-E10)*(C10+D10))","v":2.953846153846154},6,null,null,400,null,null,null,252,null,null,null,6.5,null,null,null,null,0.25]
[null,null,"* Bu hesaplayıcının amacı, kullanıcıya,  armatür optik ve elektriksel ortalama verileri, yatırım ve işletim (enerji) maliyet seviyeleri ve farklı alternatif aydınlatma sistemlerinin LIBUS'a kıyasla enerji tasarrufu yoluyla tahmini yatırım geri dönüşümü hakkında yaklaşık bir \"fikir\" vermektir. Belirtilen değerler (LIBUS'a ait olanlar hariç), herhangi bir armatür veya armatür markası hakkında kesin bilgi olarak değerlendirilemez."]
[null,null,"* Bu sayfanın altındaki tabloda hedef verileri elde etmek için yukarıdaki \"değişkenler\" tablosundaki tüm beyaz hücrelerin doldurulması gerekir. Herhangi bir sorunuz olması durumunda lütfen project@libuslighting.com ile iletişime geçin. LIBUS ekibi size LIBUS marka armatürler için ücretsiz profesyonel proje desteği sağlayacaktır."]
[]
[]
[null,null,"AYDINLATMA ARMATÜRÜ BİLGİSİ",null,null,null,null,"FLORESAN",null,"LED PANEL",null,null,"LIBUS     SBL13WB  600 x 600  /  625 x 625 mm"]
[null,null,null,"ARMATÜR TİPİ",null,null,null,"4 x 18 Watt","4 x 14 Watt","  EDGE - LIT","BACK-LIT",null,"STANDARD",null,null,null,null,"E-WHITE",null,null,null,null,"E-SILVER",null,null,null,null,"PERFORMANCE"]
[null,null,null,null,null,null,null,"T26                  (T8)","T16                    (T5)","ALT KAPAK TİPİ",null,null," LSS",null," LSP",null,null," LWS",null,"LWP",null,null,"LES",null," LEP",null,null," LPS",null," LPP"]
[null,null,null,null,null,null,null,"elektronik balast",null,"opal difüzör",null," mikro prisma","BL","CT","BL","CT","MC","BL","CT","BL","CT","MC","BL","CT","BL","CT","MC","BL","CT","BL","CT","MC"]
[null,null,null,"SİSTEM GÜCÜ",null,":","watt",81,{"$f":"I20*(H19/H20)","v":63},40,35,27,27,27,25,25,27,25,25,21,21,25,25,25,21,21,25,21,21,19,19,21]
[null,null,null,"AKTİF GÜÇ",null,":","watt",72,{"$f":"4*14","v":56},{"$f":"J19*0.86","v":34.4},{"$f":"K19*0.865","v":30.274999999999999},{"$f":"L19*0.874","v":23.597999999999999},23.597999999999999,23.597999999999999,21.85,21.85,23.597999999999999,21.85,21.85,{"$f":"T19*0.89","v":18.690000000000001},{"$f":"U19*0.89","v":18.690000000000001},{"$f":"V19*0.89","v":22.25},{"$f":"W19*0.874","v":21.85},{"$f":"X19*0.874","v":21.85},{"$f":"Y19*0.89","v":18.690000000000001},{"$f":"Z19*0.89","v":18.690000000000001},{"$f":"AA19*0.89","v":22.25},{"$f":"AB19*0.874","v":18.353999999999999},18.353999999999999,16.606000000000002,16.606000000000002,18.353999999999999]
[null,null,null,"LAMBA IŞIK AKISI",null,":","lümen",{"$f":"5400","v":5400},{"$f":"5400","v":5400},{"$f":"J20*160","v":5504},{"$f":"K20*165","v":4995.375},3893.6699999999996,{"$f":"M20*165","v":3893.6699999999996},{"$f":"N20*165","v":3893.6699999999996},{"$f":"O20*170","v":3714.5000000000005},{"$f":"P20*170","v":3714.5000000000005},4011.66,{"$f":"R20*170","v":3714.5000000000005},{"$f":"S20*170","v":3714.5000000000005},{"$f":"T20*175","v":3270.75},3270.75,3893.75,{"$f":"W20*170","v":3714.5000000000005},{"$f":"X20*170","v":3714.5000000000005},3270.75,3270.75,3893.75,{"$f":"AB20*180","v":3303.72},{"$f":"AC20*180","v":3303.72},{"$f":"AD20*185","v":3072.11},3072.11,3395.49]
[null,null,null," ARMATÜR L.O.R.",null,":","%",57,62,61,66,72.7,73.8,72.7,73.8,72.7,72.2,87.6,86.3,87.6,86.3,85.1,86.8,85.5,86.8,85.5,84.3,95.3,93.9,95.3,93.9,92.5]
[null,null,null,"ARMATÜR IŞIK AKISI",null,":","lümen",{"$f":"H21*(H22/100)","v":3077.9999999999995},{"$f":"I21*(I22/100)","v":3348},{"$f":"J21*(J22/100)","v":3357.44},{"$f":"K21*(K22/100)","v":3296.9475000000002},{"$f":"L21*(L22/100)","v":2830.6980899999999},{"$f":"M21*(M22/100)","v":2873.5284599999995},{"$f":"N21*(N22/100)","v":2830.6980899999999},{"$f":"O21*(O22/100)","v":2741.3010000000004},2700.4415000000004,2896.4185199999997,3253.902,3205.6135000000004,2865.1769999999997,2822.6572499999997,3313.5812499999997,3224.1860000000001,3175.8975000000005,2839.011,2796.49125,3282.4312500000001,3148.4451599999998,3102.19308,2927.7208300000002,2884.7112900000002,{"$f":"AF21*(AF22/100)","v":3140.82825}]
[null,null,null,"ETKİNLİK FAKTÖRÜ U.F. ave.",null,":","%",82,82,76.73,75.97,83,91.2,90.7,91.6,91.06,86.1,84.8,84.4,84.6,85.08,84.95,96.94,92.69,93.82,93.02,87.06,93.82,89.8,93.8,93,84.4]
[null,null,null,"ETKİN IŞIK AKISI",null,":","lümen",{"$f":"H23*(H24/100)","v":2523.9599999999996},{"$f":"I23*(I24/100)","v":2745.3599999999997},2576.1637120000005,2504.6910157500001,2349.4794146999998,2620.6579555199996,2567.4431676300001,2511.031716,2459.0220299000007,2493.8163457199998,2759.308896,2705.5377940000008,2423.9397419999996,2401.5167882999999,2814.8872718749999,3125.5259083999999,2943.7393927500002,2663.5601201999998,2601.2961607499997,2857.6846462500002,{"$f":"AB23*(AB24/100)","v":2953.8712491119995},2785.7693858400003,2746.2021385399999,2682.7814997000005,2650.8590430000004]
[null,null,null," KAMAŞMA - UGR (ave.)",null,":","<","15-17","15-17","18-19","19-21","18-19",8.9,8.9,9.5,9.4,11.7,13,13.5,13.5,13.2,12.7,8.1,8.8000000000000007,8.1999999999999993,8.6,10.9,8.1999999999999993,8.5,8.6,8.6,11]
[null,null,null,"VERİMLİLİK",null,":","lm / w",{"$f":"H23/H19","v":37.999999999999993},{"$f":"I23/I19","v":53.142857142857146},{"$f":"J23/J19","v":83.936000000000007},{"$f":"K23/K19","v":94.19850000000001},115,116,115,126,125,119,135,133,147,145,138,134,133,145,144,137,156,156,169,169,160]
[null,null,null,"LLF : light loss factor =",null,null,null,0.8,0.81,0.75,0.85,0.86499999999999999,0.88,0.89,0.88,0.89,0.89,{"$f":"M28+0.01","v":0.89},{"$f":"N28+0.01","v":0.9},0.89,0.9,0.9,0.89,0.9,0.89,0.9,0.9,{"$f":"W28+0.01","v":0.9},{"$f":"X28+0.01","v":0.91},0.9,0.91,0.91]
[null,null,null,"n : no.of lamps / luminaire =",null,null,null,4,4,120,169,169,169,169,169,169,169,169,169,169,169,169,169,169,169,169,169,169,169,169,169,169]
[null,null,null,"F : luminous flux per lamp = (initial values)",null,null,null,{"$f":"H23/H29","v":769.49999999999989},{"$f":"I23/I29","v":837},27.978666666666665,19.508565088757397,16.749692840236687,17.003126982248517,16.749692840236687,16.220715976331363,15.978943786982251,17.138571124260352,19.253857988165681,18.968127218934914,16.953710059171595,16.702113905325444,19.606989644970412,19.078023668639055,18.792292899408288,16.798881656804735,16.54728550295858,19.422670118343195,18.629853017751479,18.356172071005918,17.323791893491126,17.069297573964498,{"$f":"AF23/AF29","v":18.584782544378697}]
[null,null,null,"UF : RI = 2.0 / C:70 - W:50 - F:20 = ",null,null,null,0.912578,0.912578,0.823546,0.84547012999999993,0.92,1,1,1,1,0.96,0.95,0.95,0.95,0.95,0.95,1.04,1.01,1.02,1.01,0.96,1.02,0.99,1.02,1.01,0.96]

{"sheet":"SONUÇLAR","index":1,"n_rows":17,"n_cols":32,"rows_kept":17,"cut":false,"hidden":false,"merged":[[16,2,16,31],[8,2,8,5],[9,2,9,5],[10,2,10,5],[11,2,11,5],[12,2,12,5],[13,2,13,5],[14,2,14,5],[5,12,5,16],[5,17,5,21],[5,22,5,26],[5,27,5,31],[6,9,6,11],[6,12,6,13],[6,14,6,16],[6,17,6,18],[6,19,6,21],[6,22,6,23],[6,24,6,26],[6,27,6,28],[6,29,6,31],[6,2,7,6],[5,2,5,6],[12,6,14,6],[15,1,15,31],[7,7,7,8],[7,9,7,10],[9,6,10,6],[0,1,14,1],[0,2,0,32],[1,2,1,31],[1,32,15,32],[4,3,4,6],[4,7,4,8],[4,9,4,11],[4,12,4,31],[5,10,5,11]]}
[]
[null,null,"                                              VERİLEN PROJE DEĞERLERİ İÇİN TAHMİNİ HESAPLAMA SONUÇLARI *"]
[]
[]
[null,null,{"$f":"'HESAPLAMA TABLOSU'!N10","v":6},"  YIL",null,null,null,"FLORESAN",null,"LED PANEL",null,null,"LIBUS   SBL13WB  600 x 600  /  625 x 625 mm"]
[null,null,"   İŞLETME SÜRESİ",null,null,null,null,"4 x 18 Watt","4 x 14 Watt","  EDGE - LIT","BACK-LIT",null,"STANDARD",null,null,null,null,"E-WHITE",null,null,null,null,"E-SILVER",null,null,null,null,"PERFORMANCE"]
[null,null,"ARMATÜR TİPİ",null,null,null,null,"T26                      (T8)","T16                    (T5)","ALT KAPAK TİPİ",null,null," LSS",null," LSP",null,null," LWS",null,"LWP",null,null,"LES",null," LEP",null,null," LPS",null," LPP"]
[null,null,null,null,null,null,null,"elektronik balast",null,"opal difüzör",null," mikro prisma","BL","CT","BL","CT","MC","BL","CT","BL","CT","MC","BL","CT","BL","CT","MC","BL","CT","BL","CT","MC"]
[null,null,"HEDEF AYDINLIK SEVİYESİ İÇİN GEREKLİ ARMATÜR SAYISI",null,null,null,"ADET",{"$f":"('HESAPLAMA TABLOSU'!$Q$10*('HESAPLAMA TABLOSU'!$C$10*'HESAPLAMA TABLOSU'!$D$10))/('HESAPLAMA TABLOSU'!H28*('HESAPLAMA TABLOSU'!H24/100)*'HESAPLAMA TABLOSU'!H23)","v":28.526601055484239},{"$f":"('HESAPLAMA TABLOSU'!$Q$10*('HESAPLAMA TABLOSU'!$C$10*'HESAPLAMA TABLOSU'!$D$10))/('HESAPLAMA TABLOSU'!I28*('HESAPLAMA TABLOSU'!I24/100)*'HESAPLAMA TABLOSU'!I23)","v":25.902290086222251},{"$f":"('HESAPLAMA TABLOSU'!$Q$10*('HESAPLAMA TABLOSU'!$C$10*'HESAPLAMA TABLOSU'!$D$10))/('HESAPLAMA TABLOSU'!J28*('HESAPLAMA TABLOSU'!J24/100)*'HESAPLAMA TABLOSU'!J23)","v":29.811769974966555},{"$f":"('HESAPLAMA TABLOSU'!$Q$10*('HESAPLAMA TABLOSU'!$C$10*'HESAPLAMA TABLOSU'!$D$10))/('HESAPLAMA TABLOSU'!K28*('HESAPLAMA TABLOSU'!K24/100)*'HESAPLAMA TABLOSU'!K23)","v":27.055115962901152},{"$f":"('HESAPLAMA TABLOSU'!$Q$10*('HESAPLAMA TABLOSU'!$C$10*'HESAPLAMA TABLOSU'!$D$10))/('HESAPLAMA TABLOSU'!L28*('HESAPLAMA TABLOSU'!L24/100)*'HESAPLAMA TABLOSU'!L23)","v":28.3422765737342},{"$f":"('HESAPLAMA TABLOSU'!$Q$10*('HESAPLAMA TABLOSU'!$C$10*'HESAPLAMA TABLOSU'!$D$10))/('HESAPLAMA TABLOSU'!M28*('HESAPLAMA TABLOSU'!M24/100)*'HESAPLAMA TABLOSU'!M23)","v":24.976378667302175},{"$f":"('HESAPLAMA TABLOSU'!$Q$10*('HESAPLAMA TABLOSU'!$C$10*'HESAPLAMA TABLOSU'!$D$10))/('HESAPLAMA TABLOSU'!N28*('HESAPLAMA TABLOSU'!N24/100)*'HESAPLAMA TABLOSU'!N23)","v":25.207608074665792},{"$f":"('HESAPLAMA TABLOSU'!$Q$10*('HESAPLAMA TABLOSU'!$C$10*'HESAPLAMA TABLOSU'!$D$10))/('HESAPLAMA TABLOSU'!O28*('HESAPLAMA TABLOSU'!O24/100)*'HESAPLAMA TABLOSU'!O23)","v":26.066793596224514},{"$f":"('HESAPLAMA TABLOSU'!$Q$10*('HESAPLAMA TABLOSU'!$C$10*'HESAPLAMA TABLOSU'!$D$10))/('HESAPLAMA TABLOSU'!P28*('HESAPLAMA TABLOSU'!P24/100)*'HESAPLAMA TABLOSU'!P23)","v":26.319040796160497},{"$f":"('HESAPLAMA TABLOSU'!$Q$10*('HESAPLAMA TABLOSU'!$C$10*'HESAPLAMA TABLOSU'!$D$10))/('HESAPLAMA TABLOSU'!Q28*('HESAPLAMA TABLOSU'!Q24/100)*'HESAPLAMA TABLOSU'!Q23)","v":25.951831310541106},{"$f":"('HESAPLAMA TABLOSU'!$Q$10*('HESAPLAMA TABLOSU'!$C$10*'HESAPLAMA TABLOSU'!$D$10))/('HESAPLAMA TABLOSU'!R28*('HESAPLAMA TABLOSU'!R24/100)*'HESAPLAMA TABLOSU'!R23)","v":23.454822770083769},{"$f":"('HESAPLAMA TABLOSU'!$Q$10*('HESAPLAMA TABLOSU'!$C$10*'HESAPLAMA TABLOSU'!$D$10))/('HESAPLAMA TABLOSU'!S28*('HESAPLAMA TABLOSU'!S24/100)*'HESAPLAMA TABLOSU'!S23)","v":23.655186093475056},{"$f":"('HESAPLAMA TABLOSU'!$Q$10*('HESAPLAMA TABLOSU'!$C$10*'HESAPLAMA TABLOSU'!$D$10))/('HESAPLAMA TABLOSU'!T28*('HESAPLAMA TABLOSU'!T24/100)*'HESAPLAMA TABLOSU'!T23)","v":26.699962875395407},{"$f":"('HESAPLAMA TABLOSU'!$Q$10*('HESAPLAMA TABLOSU'!$C$10*'HESAPLAMA TABLOSU'!$D$10))/('HESAPLAMA TABLOSU'!U28*('HESAPLAMA TABLOSU'!U24/100)*'HESAPLAMA TABLOSU'!U23)","v":26.649824107748465},{"$f":"('HESAPLAMA TABLOSU'!$Q$10*('HESAPLAMA TABLOSU'!$C$10*'HESAPLAMA TABLOSU'!$D$10))/('HESAPLAMA TABLOSU'!V28*('HESAPLAMA TABLOSU'!V24/100)*'HESAPLAMA TABLOSU'!V23)","v":22.736256843908894},{"$f":"('HESAPLAMA TABLOSU'!$Q$10*('HESAPLAMA TABLOSU'!$C$10*'HESAPLAMA TABLOSU'!$D$10))/('HESAPLAMA TABLOSU'!W28*('HESAPLAMA TABLOSU'!W24/100)*'HESAPLAMA TABLOSU'!W23)","v":20.706627626941064},{"$f":"('HESAPLAMA TABLOSU'!$Q$10*('HESAPLAMA TABLOSU'!$C$10*'HESAPLAMA TABLOSU'!$D$10))/('HESAPLAMA TABLOSU'!X28*('HESAPLAMA TABLOSU'!X24/100)*'HESAPLAMA TABLOSU'!X23)","v":21.741054985241778},{"$f":"('HESAPLAMA TABLOSU'!$Q$10*('HESAPLAMA TABLOSU'!$C$10*'HESAPLAMA TABLOSU'!$D$10))/('HESAPLAMA TABLOSU'!Y28*('HESAPLAMA TABLOSU'!Y24/100)*'HESAPLAMA TABLOSU'!Y23)","v":24.297968959955714},{"$f":"('HESAPLAMA TABLOSU'!$Q$10*('HESAPLAMA TABLOSU'!$C$10*'HESAPLAMA TABLOSU'!$D$10))/('HESAPLAMA TABLOSU'!Z28*('HESAPLAMA TABLOSU'!Z24/100)*'HESAPLAMA TABLOSU'!Z23)","v":24.603119385509594},{"$f":"('HESAPLAMA TABLOSU'!$Q$10*('HESAPLAMA TABLOSU'!$C$10*'HESAPLAMA TABLOSU'!$D$10))/('HESAPLAMA TABLOSU'!AA28*('HESAPLAMA TABLOSU'!AA24/100)*'HESAPLAMA TABLOSU'!AA23)","v":22.395753178708528},{"$f":"('HESAPLAMA TABLOSU'!$Q$10*('HESAPLAMA TABLOSU'!$C$10*'HESAPLAMA TABLOSU'!$D$10))/('HESAPLAMA TABLOSU'!AB28*('HESAPLAMA TABLOSU'!AB24/100)*'HESAPLAMA TABLOSU'!AB23)","v":21.666482592712814},{"$f":"('HESAPLAMA TABLOSU'!$Q$10*('HESAPLAMA TABLOSU'!$C$10*'HESAPLAMA TABLOSU'!$D$10))/('HESAPLAMA TABLOSU'!AC28*('HESAPLAMA TABLOSU'!AC24/100)*'HESAPLAMA TABLOSU'!AC23)","v":22.721444071587168},{"$f":"('HESAPLAMA TABLOSU'!$Q$10*('HESAPLAMA TABLOSU'!$C$10*'HESAPLAMA TABLOSU'!$D$10))/('HESAPLAMA TABLOSU'!AD28*('HESAPLAMA TABLOSU'!AD24/100)*'HESAPLAMA TABLOSU'!AD23)","v":23.304912301184491},{"$f":"('HESAPLAMA TABLOSU'!$Q$10*('HESAPLAMA TABLOSU'!$C$10*'HESAPLAMA TABLOSU'!$D$10))/('HESAPLAMA TABLOSU'!AE28*('HESAPLAMA TABLOSU'!AE24/100)*'HESAPLAMA TABLOSU'!AE23)","v":23.593685622098331},{"$f":"('HESAPLAMA TABLOSU'!$Q$10*('HESAPLAMA TABLOSU'!$C$10*'HESAPLAMA TABLOSU'!$D$10))/('HESAPLAMA TABLOSU'!AF28*('HESAPLAMA TABLOSU'!AF24/100)*'HESAPLAMA TABLOSU'!AF23)","v":23.87780801240562}]
[null,null,"TAHMİNİ BİRİM              ARMATÜR MALİYETİ",null,null,null,"EURO",40,45,48,48,60,62,67,68,74,86,68,73,72,78,91,71,76,75,80,93,86,92,97,102,109]
[null,null,"ARMATÜR TOPLAM                YATIRIM MALİYETİ",null,null,null,null,{"$f":"H9*H10","v":1141.0640422193696},{"$f":"I9*I10","v":1165.6030538800014},1430.9649587983947,1298.6455662192552,1700.5365944240521,{"$f":"M9*M10","v":1548.5354773727349},1688.9097410026081,1772.5419645432669,1947.6090189158767,2231.8574927065351,1594.9279483656962,1726.828584823679,1922.3973270284694,2078.6862804043803,2068.9993727957094,1470.1705615128155,1652.3201788783751,1822.3476719966786,1968.2495508407674,2082.805045619893,1863.317502973302,2090.3728545860195,2260.5764932148954,2406.5559334540299,2602.6810733522125]
[null,null,"YILLIK ENERJİ  / ELEKTRİK TÜKETİMİ",null,null,null,"kWh",{"$f":"((H9*'HESAPLAMA TABLOSU'!H19)/1000)*'HESAPLAMA TABLOSU'!$U$10*'HESAPLAMA TABLOSU'!$Y$10","v":3784.8523748395382},{"$f":"((I9*'HESAPLAMA TABLOSU'!I19)/1000)*'HESAPLAMA TABLOSU'!$U$10*'HESAPLAMA TABLOSU'!$Y$10","v":2672.9609231576187},{"$f":"((J9*'HESAPLAMA TABLOSU'!J19)/1000)*'HESAPLAMA TABLOSU'!$U$10*'HESAPLAMA TABLOSU'!$Y$10","v":1953.267168759809},{"$f":"((K9*'HESAPLAMA TABLOSU'!K19)/1000)*'HESAPLAMA TABLOSU'!$U$10*'HESAPLAMA TABLOSU'!$Y$10","v":1551.069798153123},{"$f":"((L9*'HESAPLAMA TABLOSU'!L19)/1000)*'HESAPLAMA TABLOSU'!$U$10*'HESAPLAMA TABLOSU'!$Y$10","v":1253.4655237499687},{"$f":"((M9*'HESAPLAMA TABLOSU'!M19)/1000)*'HESAPLAMA TABLOSU'!$U$10*'HESAPLAMA TABLOSU'!$Y$10","v":1104.6053229401059},{"$f":"((N9*'HESAPLAMA TABLOSU'!N19)/1000)*'HESAPLAMA TABLOSU'!$U$10*'HESAPLAMA TABLOSU'!$Y$10","v":1114.8316747101692},{"$f":"((O9*'HESAPLAMA TABLOSU'!O19)/1000)*'HESAPLAMA TABLOSU'!$U$10*'HESAPLAMA TABLOSU'!$Y$10","v":1067.4351977653939},{"$f":"((P9*'HESAPLAMA TABLOSU'!P19)/1000)*'HESAPLAMA TABLOSU'!$U$10*'HESAPLAMA TABLOSU'!$Y$10","v":1077.7647206027723},{"$f":"((Q9*'HESAPLAMA TABLOSU'!Q19)/1000)*'HESAPLAMA TABLOSU'!$U$10*'HESAPLAMA TABLOSU'!$Y$10","v":1147.745691539991},{"$f":"((R9*'HESAPLAMA TABLOSU'!R19)/1000)*'HESAPLAMA TABLOSU'!$U$10*'HESAPLAMA TABLOSU'!$Y$10","v":960.47499243493019},{"$f":"((S9*'HESAPLAMA TABLOSU'!S19)/1000)*'HESAPLAMA TABLOSU'!$U$10*'HESAPLAMA TABLOSU'!$Y$10","v":968.67987052780359},{"$f":"((T9*'HESAPLAMA TABLOSU'!T19)/1000)*'HESAPLAMA TABLOSU'!$U$10*'HESAPLAMA TABLOSU'!$Y$10","v":918.42532298785113},{"$f":"((U9*'HESAPLAMA TABLOSU'!U19)/1000)*'HESAPLAMA TABLOSU'!$U$10*'HESAPLAMA TABLOSU'!$Y$10","v":916.70064965833149},{"$f":"((V9*'HESAPLAMA TABLOSU'!V19)/1000)*'HESAPLAMA TABLOSU'!$U$10*'HESAPLAMA TABLOSU'!$Y$10","v":931.04971775806939},{"$f":"((W9*'HESAPLAMA TABLOSU'!W19)/1000)*'HESAPLAMA TABLOSU'!$U$10*'HESAPLAMA TABLOSU'!$Y$10","v":847.93640132323651},{"$f":"((X9*'HESAPLAMA TABLOSU'!X19)/1000)*'HESAPLAMA TABLOSU'!$U$10*'HESAPLAMA TABLOSU'!$Y$10","v":890.29620164565074},{"$f":"((Y9*'HESAPLAMA TABLOSU'!Y19)/1000)*'HESAPLAMA TABLOSU'!$U$10*'HESAPLAMA TABLOSU'!$Y$10","v":835.80153628455651},{"$f":"((Z9*'HESAPLAMA TABLOSU'!Z19)/1000)*'HESAPLAMA TABLOSU'!$U$10*'HESAPLAMA TABLOSU'!$Y$10","v":846.29810062275897},{"$f":"((AA9*'HESAPLAMA TABLOSU'!AA19)/1000)*'HESAPLAMA TABLOSU'!$U$10*'HESAPLAMA TABLOSU'!$Y$10","v":917.10609266811423},{"$f":"((AB9*'HESAPLAMA TABLOSU'!AB19)/1000)*'HESAPLAMA TABLOSU'!$U$10*'HESAPLAMA TABLOSU'!$Y$10","v":745.28366822413545},{"$f":"((AC9*'HESAPLAMA TABLOSU'!AC19)/1000)*'HESAPLAMA TABLOSU'!$U$10*'HESAPLAMA TABLOSU'!$Y$10","v":781.57223317445539},{"$f":"((AD9*'HESAPLAMA TABLOSU'!AD19)/1000)*'HESAPLAMA TABLOSU'!$U$10*'HESAPLAMA TABLOSU'!$Y$10","v":725.2954806374637},{"$f":"((AE9*'HESAPLAMA TABLOSU'!AE19)/1000)*'HESAPLAMA TABLOSU'!$U$10*'HESAPLAMA TABLOSU'!$Y$10","v":734.28268393094424},{"$f":"((AF9*'HESAPLAMA TABLOSU'!AF19)/1000)*'HESAPLAMA TABLOSU'!$U$10*'HESAPLAMA TABLOSU'!$Y$10","v":821.34884001072851}]
[null,null,"ARMATÜR BAŞINA                   YILLIK ELEKTRİK MALİYETİ",null,null,null,"EURO",{"$f":"(H12/H9)*'HESAPLAMA TABLOSU'!$AD$10","v":33.169500000000006},{"$f":"(I12/I9)*'HESAPLAMA TABLOSU'!$AD$10","v":25.798499999999997},{"$f":"(J12/J9)*'HESAPLAMA TABLOSU'!$AD$10","v":16.380000000000003},{"$f":"(K12/K9)*'HESAPLAMA TABLOSU'!$AD$10","v":14.3325},{"$f":"(L12/L9)*'HESAPLAMA TABLOSU'!$AD$10","v":11.0565},{"$f":"(M12/M9)*'HESAPLAMA TABLOSU'!$AD$10","v":11.0565},{"$f":"(N12/N9)*'HESAPLAMA TABLOSU'!$AD$10","v":11.056499999999998},{"$f":"(O12/O9)*'HESAPLAMA TABLOSU'!$AD$10","v":10.237500000000001},{"$f":"(P12/P9)*'HESAPLAMA TABLOSU'!$AD$10","v":10.237499999999999},{"$f":"(Q12/Q9)*'HESAPLAMA TABLOSU'!$AD$10","v":11.0565},{"$f":"(R12/R9)*'HESAPLAMA TABLOSU'!$AD$10","v":10.237499999999999},{"$f":"(S12/S9)*'HESAPLAMA TABLOSU'!$AD$10","v":10.237500000000001},{"$f":"(T12/T9)*'HESAPLAMA TABLOSU'!$AD$10","v":8.599499999999999},{"$f":"(U12/U9)*'HESAPLAMA TABLOSU'!$AD$10","v":8.5994999999999973},{"$f":"(V12/V9)*'HESAPLAMA TABLOSU'!$AD$10","v":10.237500000000002},{"$f":"(W12/W9)*'HESAPLAMA TABLOSU'!$AD$10","v":10.237499999999999},{"$f":"(X12/X9)*'HESAPLAMA TABLOSU'!$AD$10","v":10.237499999999999},{"$f":"(Y12/Y9)*'HESAPLAMA TABLOSU'!$AD$10","v":8.599499999999999},{"$f":"(Z12/Z9)*'HESAPLAMA TABLOSU'!$AD$10","v":8.599499999999999},{"$f":"(AA12/AA9)*'HESAPLAMA TABLOSU'!$AD$10","v":10.237500000000001},{"$f":"(AB12/AB9)*'HESAPLAMA TABLOSU'!$AD$10","v":8.5995000000000008},{"$f":"(AC12/AC9)*'HESAPLAMA TABLOSU'!$AD$10","v":8.599499999999999},{"$f":"(AD12/AD9)*'HESAPLAMA TABLOSU'!$AD$10","v":7.7805},{"$f":"(AE12/AE9)*'HESAPLAMA TABLOSU'!$AD$10","v":7.7805},{"$f":"(AF12/AF9)*'HESAPLAMA TABLOSU'!$AD$10","v":8.5995000000000008}]
[null,null,"YILLIK TOPLAM AYDINLATMA ENERJİ MALİYETİ",null,null,null,null,{"$f":"H13*H9","v":946.21309370988467},{"$f":"I13*I9","v":668.24023078940468},{"$f":"J13*J9","v":488.31679218995225},387.76744953828074,313.36638093749218,276.15133073502648,278.7079186775423,266.85879944134848,269.44118015069307,286.93642288499774,240.11874810873258,242.1699676319509,229.60633074696278,229.17516241458284,232.76242943951735,211.98410033080913,222.57405041141268,208.95038407113913,211.57452515568971,229.27652316702856,186.32091705603386,195.39305829361382,181.32387015936592,183.57067098273606,205.33721000268216]
[null,null,"VERİLİ DÖNEMDE AYDINLATMA YATIRIM + İŞLETME          TOPLAM MALİYETİ",null,null,null,null,{"$f":"H11+(H14*$C$5)","v":6818.3426044786775},{"$f":"I11+(I14*$C$5)","v":5175.044438616429},4360.8657119381087,3625.2502634489397,3580.7348800490054,3205.4434617828938,3361.1572530678623,3373.6947611913574,3564.2560998200352,3953.4760300165217,3035.6404370180917,3179.8483906153842,3300.0353115102462,3453.7372548918775,3465.5739494328136,2742.0751634976705,2987.7644813468514,3076.0499764235137,3237.6967017749057,3458.4641846220643,2981.243005309505,3262.7312043477023,3348.519714171091,3507.9799593504463,3834.7043333683055]
[]
[null,null,"* bu hesaplayıcının amacı, kullanıcıya,  armatür optik ve elektriksel ortalama verileri, yatırım ve işletim (enerji) maliyet seviyeleri ve farklı alternatif aydınlatma sistemlerinin LIBUS'a kıyasla enerji tasarrufu yoluyla tahmini yatırım geri dönüşümü hakkında yaklaşık bir \"fikir\" vermektir. Belirtilen değerler (LIBUS'a ait olanlar hariç), herhangi bir armatür veya armatür markası hakkında kesin bilgi olarak değerlendirilemez."]